BEGIN:VCALENDAR
VERSION:2.0
PRODID:-//Tukios.com/
BEGIN:VEVENT
UID:f123a041-8789-4ef2-931e-912aa03f9edf@www.hinesvillefuneralhome.com
DTSTAMP:20260420T152218Z
DTSTART:20260424T220000Z
DTEND:20260424T230000Z
SUMMARY:Visitation
DESCRIPTION:
URL:https://www.hinesvillefuneralhome.com/obituaries/pattie-howe
LOCATION:Carter Funeral Home 308 West Oglethorpe Highway  Hinesville GA 
	31313
GEO:31.8171762;-81.6011172
END:VEVENT
END:VCALENDAR