BEGIN:VCALENDAR
VERSION:2.0
PRODID:-//Tukios.com/
BEGIN:VEVENT
UID:10a809e0-b8b6-46ee-a1c9-46cb10914928@www.hinesvillefuneralhome.com
DTSTAMP:20260420T152218Z
DTSTART:20260425T150000Z
DTEND:20260425T160000Z
SUMMARY:Funeral Service
DESCRIPTION:
URL:https://www.hinesvillefuneralhome.com/obituaries/pattie-howe
LOCATION:Grace Baptist Church 1406 Airport Road  Hinesville GA 31313
GEO:31.7975982;-81.6416516
END:VEVENT
END:VCALENDAR