BEGIN:VCALENDAR
VERSION:2.0
PRODID:-//Tukios.com/
BEGIN:VEVENT
UID:e6a52082-1c4d-4084-8f55-09cdeb37f769@www.hinesvillefuneralhome.com
DTSTAMP:20260420T152218Z
DTSTART:20260427T140000Z
DTEND:20260427T150000Z
SUMMARY:Burial
DESCRIPTION:
URL:https://www.hinesvillefuneralhome.com/obituaries/pattie-howe
LOCATION:Georgia Veterans Memorial Cemetery 8819 U.S. 301  Glennville GA 
	30427
GEO:31.9595456;-81.9250901
END:VEVENT
END:VCALENDAR